BEGIN:VCALENDAR
PRODID:NingEventWidget-v1
VERSION:2.0
METHOD:PUBLISH
BEGIN:VEVENT
UID:5167423:Event:65177
DTSTAMP:20260421T054352Z
SUMMARY:40th ANNUAL GETTYSBURG REGION ANTIQUE & CLASSIC AUTO & TRUCK S
 HOW & FLEA MARKET
DESCRIPTION:15 CLASSES, 12 TO BE JUDGED. FEATURED VEHICLES THIS YEAR A
 RE ALL REAR ENGINE & MID ENGINE VEHICLES THROUGH 2015. OTHER CLASSES T
 HROUGH 1995.  REGISTRATION IS $10 UNTIL JUNE 6; $15 THEREAFTER. FLEA 
 MARKET & CAR CORRAL SPACES ARE $15 UNTIL JUNE 6; $20 THEREAFTER. FREE 
 REGISTRATION FOR 2ND VEHICLE BROUGHT BY SAME FAMILY. DO NOT HAVE TO BE
  GETTYSBURG REGION MEMBER TO PARTICIPATE. JUDGING BEGINS AT 11:00am. A
 DMISSION IS FREE. PARKING IS $2.00. GOOD FOOD AVAILABLE. FUN FOR THE 
 WHOLE FAMILY!\n\nFor more information visit https://northeastwheelseve
 nts.com/events/40th-annual-gettysburg-region-antique-classic-auto-truc
 k-show
DTSTART:20150613T110000Z
DTEND:20150613T183000Z
CATEGORIES:auto, "&", truck, show
LOCATION:LATIMORE VALLEY FAIRGROUNDS
WEBSITE:http://AACAGETTYSBURGREGION.ORG
URL:http://AACAGETTYSBURGREGION.ORG
CONTACT:717-451-0092
ORGANIZER:RICHARD ENGLE
ATTACH;FMTTYPE="image/jpeg":
ATTENDEE;ROLE=REQ-PARTICIPANT;PARTSTAT=ACCEPTED;RSVP=TRUE;CN="C. Edwar
 d Rogers":https://northeastwheelsevents.com/profile/0ieio87o814d6
END:VEVENT
END:VCALENDAR
