BEGIN:VCALENDAR
PRODID:NingEventWidget-v1
VERSION:2.0
METHOD:PUBLISH
BEGIN:VEVENT
UID:5167423:Event:144449
DTSTAMP:20260424T072123Z
SUMMARY:40th Annual LI Regional License Plate Meet & Show
DESCRIPTION:ALPCA Registration $10 per table, walk-in $5 each. Please 
 call or e-mail to reserve tables or for further info. Free coffee. Don
 ation Auction, Best of Show, Breakfast, Beverages and Lunch offered by
  the Elks.\n\nFor more information visit https://northeastwheelsevents
 .com/events/40th-annual-li-regional-license-plate-meet-show
DTSTART:20170408T120000Z
DTEND:20170408T180000Z
CATEGORIES:license, plate, meet
LOCATION:ELKS Lodge
WEBSITE:
URL:
CONTACT:George Barnes 631-281-4559 gbarnes809@optonline.net and Jimmy 
 Smith (Smitty) smittyj137@aol.com
ORGANIZER;CN="Alex Martin":https://northeastwheelsevents.com/profile/A
 lexmartin
ATTACH;FMTTYPE="image/jpeg":http://storage.ning.com/topology/rest/1.0/
 file/get/2284097606?profile=original
ATTENDEE;ROLE=REQ-PARTICIPANT;PARTSTAT=ACCEPTED;RSVP=TRUE;CN="Alex Mar
 tin":https://northeastwheelsevents.com/profile/Alexmartin
END:VEVENT
END:VCALENDAR
