BEGIN:VCALENDAR
PRODID:NingEventWidget-v1
VERSION:2.0
METHOD:PUBLISH
BEGIN:VEVENT
UID:5167423:Event:143273
DTSTAMP:20260420T183933Z
SUMMARY:40th Annual MCCNE, MUSTANG & FORDS Spring Round-Up
DESCRIPTION:Rain Date: 6/18/17.\nNOTE: Show Car Entrance is at 579 Mid
 dle Turnpike West (Rt-44A), about 1.2 miles East of I-84, at Exit-60.\
 nThis show Welcomes All Years and Models of Mustang and Ford Family Au
 tos, only.\nALL SHOW CARS will be CLUB JUDGED, ex. 2016s plus: pop. vo
 te, on Cleanliness, Workmanship, Condition, Fit and Finish. NOTE: Fire
  Extinguishers are required in all show vehicles!\nNOTE: These dates d
 o not conflict with the Carlisle Ford Nationals on June 2nd thru 4th i
 n 2017!\nShow Hours: Car Registrations: 9:00AM to 12:00PM, Entry fee: 
 $20.00 -- MCCNE Members: $15.00. Trophies Awarded about 3:30PM. Specta
 tors are welcome, Admission is FREE! (Sorry NO Vendor Spaces.)\n\nFor 
 more information visit https://northeastwheelsevents.com/events/40th-a
 nnual-mccne-mustang-fords-spring-round-up
DTSTART:20170611T130000Z
DTEND:20170611T190000Z
CATEGORIES:fundraiser, for, charity
LOCATION:Mustangs Unlimited
WEBSITE:http://www.mccne.com
URL:http://www.mccne.com
CONTACT:MCCNE Info. Line: 508-674-5462
ORGANIZER:Mustang Car Club of New England
ATTACH;FMTTYPE="image/jpeg":http://storage.ning.com/topology/rest/1.0/
 file/get/2284095264?profile=original
ATTENDEE;ROLE=REQ-PARTICIPANT;PARTSTAT=ACCEPTED;RSVP=TRUE;CN="Vincent 
 Letourneau":https://northeastwheelsevents.com/profile/VincentLetournea
 u
END:VEVENT
END:VCALENDAR
