BEGIN:VCALENDAR
PRODID:NingEventWidget-v1
VERSION:2.0
METHOD:PUBLISH
BEGIN:VEVENT
UID:5167423:Event:128702
DTSTAMP:20260424T211430Z
SUMMARY:40TH ANNUAL US DIESEL TRUCKIN’ NATIONALS Englishtown NJ
DESCRIPTION:All diesels welcome, from big rigs to pick ups. Show, swap
  meet. Dan, Bob & the entire XDP staff have made the USDTN event into
  a Spectacular “Be There!!” event. Over 1,000 Diesel Pickups, 50+ 
 Manufacturers and much, much more for Diesel Pickups enthusiasts. The 
 XDP Dyno will be here, Music, Demonstrations, etc. Plus the entire XDP
  Race Team will be in action. Monster Trucks, Modified Pickups, Show v
 ehicles and more. Spectator side gates will open at 6pm Friday, Septem
 ber 16, 2016.  CALL FOR INFORMATION\n\nFor more information visit htt
 ps://northeastwheelsevents.com/events/40th-annual-us-diesel-truckin-na
 tionals-englishtown-nj
DTSTART:20160916T220000Z
DTEND:20160918T020000Z
CATEGORIES:diesel, truck, show, swap, meet, and, races
LOCATION:Raceway Park, Englishtown, NJ
WEBSITE:http://www.usdieselnationals.com/
URL:http://www.usdieselnationals.com/
CONTACT:732.446.7800   info@usdieselnationals.com
ORGANIZER:Raceway Park
ATTACH;FMTTYPE="image/jpeg":http://storage.ning.com/topology/rest/1.0/
 file/get/2284093816?profile=original
ATTENDEE;ROLE=REQ-PARTICIPANT;PARTSTAT=ACCEPTED;RSVP=TRUE;CN="Pamela H
 irschhorn":https://northeastwheelsevents.com/profile/PamelaHirschhorn
END:VEVENT
END:VCALENDAR
