BEGIN:VCALENDAR
PRODID:NingEventWidget-v1
VERSION:2.0
METHOD:PUBLISH
BEGIN:VEVENT
UID:5167423:Event:66994
DTSTAMP:20260421T125601Z
SUMMARY:41st Annual Car Parts Flea Market
DESCRIPTION:The Hawk Mt. Region of the Early Ford V8 Club hosts an ann
 ual antique and classic car parts flea market held at the Leesport Far
 mers Market Grounds in Leesport, PA.(8 miles south of Cabela's on Rte 
 61 between Hamburg and Reading). Over 200 spaces available, with most 
 under roof. Free admission and parking. For more info email hawkmtv8@a
 ol.com\n\nFor more information visit https://northeastwheelsevents.com
 /events/41st-annual-car-parts-flea-market
DTSTART:20150426T110000Z
DTEND:20150426T190000Z
CATEGORIES:car, parts, flea, market
LOCATION:Leesport Farmers Market Grounds
WEBSITE:
URL:
CONTACT:610-926-3061
ORGANIZER:Rick Slegel, Hawk Mt. EFV8 Club
ATTACH;FMTTYPE="image/jpeg":
ATTENDEE;ROLE=REQ-PARTICIPANT;PARTSTAT=ACCEPTED;RSVP=TRUE;CN="Rick Sle
 gel":https://northeastwheelsevents.com/profile/RickSlegel
END:VEVENT
END:VCALENDAR
