BEGIN:VCALENDAR
PRODID:NingEventWidget-v1
VERSION:2.0
METHOD:PUBLISH
BEGIN:VEVENT
UID:5167423:Event:172508
DTSTAMP:20260425T092206Z
SUMMARY:41st Annual Indoor Automotive Flea Market
DESCRIPTION:Indoor Automotive Flea Market\nSunday April 8, 2018\n9 am 
 to 3 pm\nAll Makes of vehicles are welcome\nat Total Sports Experience
 \n880 Elmgrove Rd., Rochester, NY 14624\nJust South of Rt. 531\nPlenty
  of FREE  Parking\nGeneral Admission is $5.00\nKids under 16 are fre
 e\nVisit our website @ www.wnyrg.org\nfor map and directions\nFor gene
 ral info, call Frank @ (585) 637-8863\n For vendor info, call Mark @ 
 (585) 786-2876\n A portion of the proceeds to benefit \nThe New York
  Warrior Alliance \n\nFor more information visit https://northeastwhe
 elsevents.com/events/41st-annual-indoor-automotive-flea-market
DTSTART:20180408T130000Z
DTEND:20180408T190000Z
CATEGORIES:automotive, flea, market
LOCATION:Total Sports Experience
WEBSITE:http://www.wnyrg.org
URL:http://www.wnyrg.org
CONTACT:(585) 637-8863
ORGANIZER:Western New York Region of The Early Ford V-8 Club
ATTACH;FMTTYPE="image/jpeg":
ATTENDEE;ROLE=REQ-PARTICIPANT;PARTSTAT=ACCEPTED;RSVP=TRUE;CN="Pat McFa
 rlane":https://northeastwheelsevents.com/profile/PatMcFarlane
END:VEVENT
END:VCALENDAR
