BEGIN:VCALENDAR
PRODID:NingEventWidget-v1
VERSION:2.0
METHOD:PUBLISH
BEGIN:VEVENT
UID:5167423:Event:142344
DTSTAMP:20260424T234431Z
SUMMARY:41st Annual LI & NYC Oldsmobile Club Spring Dust-Off and Swap 
 Meet
DESCRIPTION:The Long Island and New York City Oldsmobile Club Presents
  the 41st Annual Spring Dust-Off Car Show and Swap Meet\nSunday, May 7
 th, 2017 (Raindate May 21st)\n9:00AM – 5:00PM\nFour Towns Fireman’
 s Training Center\nMerrick Road, Merrick, Long Island, New York\n(Mead
 owbrook Pkwy exit M9 east)\nHosted by and benefitting: The North Bellm
 ore Volunteer Fire Dept\nAll Makes and Models welcome.\n2004 and older
  judged\n2005 and newer for display only\nSpecial Classes for all Olds
 mobiles\nVendor Spaces available – all swap meet items – new & use
 d\n1st, 2nd & 3rd Place trophies for all classes\nDash Plaques for fir
 st 300 cars\nD.J. Entertainment\nFood and refreshments available\nEven
 t listed: https://www.facebook.com/events/1813943495527074/\nFacebook 
 Page: https://www.facebook.com/LINYCOldsclub/\nWebsite: http://li-nyc-
 oldsclub.com/\nEmail address: Oldsclub@li-nyc-oldsclub.com\n\n\n\nFor 
 more information visit https://northeastwheelsevents.com/events/41st-a
 nnual-li-nyc-oldsmobile-club-spring-dust-off-and-swap-meet
DTSTART:20170507T130000Z
DTEND:20170507T210000Z
CATEGORIES:benefit, car, show
LOCATION:Four Towns Fireman’s Training Center
WEBSITE:http://li-nyc-oldsclub.com/
URL:http://li-nyc-oldsclub.com/
CONTACT:917-509-0528
ORGANIZER;CN="Larry Grossflam":https://northeastwheelsevents.com/profi
 le/LarryGrossflam
ATTACH;FMTTYPE="image/jpeg":http://storage.ning.com/topology/rest/1.0/
 file/get/2284068280?profile=original
ATTENDEE;ROLE=REQ-PARTICIPANT;PARTSTAT=ACCEPTED;RSVP=TRUE;CN="Larry Gr
 ossflam":https://northeastwheelsevents.com/profile/LarryGrossflam
END:VEVENT
END:VCALENDAR
