BEGIN:VCALENDAR
PRODID:NingEventWidget-v1
VERSION:2.0
METHOD:PUBLISH
BEGIN:VEVENT
UID:5167423:Event:65354
DTSTAMP:20260422T094458Z
SUMMARY:42nd Annual DELAWARE STREET RODS CAR SHOW
DESCRIPTION:Rods, Customs, Performance Vehicles 20 Years Old and older
 \n\nSurprise Grand Prizes for both Men and Women\nMany Door Prizes for
  the Whole Family\nWoman's Chinese Auction\nFood Available\nNo Beer / 
 Wine Available\n\n\nFor more information visit https://northeastwheels
 events.com/events/42nd-annual-delaware-street-rods-car-show
DTSTART:20150705T120000Z
DTEND:20150705T200000Z
CATEGORIES:42nd, car, show
LOCATION:New castle, DE  Moose Lodge
WEBSITE:
URL:
CONTACT:302-422-5105
ORGANIZER:Delaware Street Rods
ATTACH;FMTTYPE="image/jpeg":
ATTENDEE;ROLE=REQ-PARTICIPANT;PARTSTAT=ACCEPTED;RSVP=TRUE;CN="Ron Fran
 cis":https://northeastwheelsevents.com/profile/RonFrancis
END:VEVENT
END:VCALENDAR
