BEGIN:VCALENDAR
PRODID:NingEventWidget-v1
VERSION:2.0
METHOD:PUBLISH
BEGIN:VEVENT
UID:5167423:Event:320426
DTSTAMP:20260422T101224Z
SUMMARY:44th Annual \"MGs On the Rocks\" British Car Show &amp; Parts 
 Market
DESCRIPTION:MGs on the Rocks\n\nThe 44th Annual promises to be a great
  event and we are expecting 200 cars. If you love British cars this is
  the place to be the last Saturday in September.\n\nMGs on the Rocks i
 s the longest continuous British Car Show in the North America. This B
 ritish Only show has been on the same weekend at the same location for
  44 years.\n\nThe Rocks State Park 4H Camp is an excellent country set
 ting in rural Harford County, MD. Multiple classes of MG’s are award
 ed as well as awards for 8 other British Marques. Awards are by popula
 r vote by the car owners. The unique at the car award ceremonies is at
  3 p.m. All winners have their photos taken with their cars. Checkout 
 our website for past event photos.\n\nPut your car on the field! Altho
 ugh we have many beautiful cars, this is very much a come as you are g
 athering. Only owners of cars on the field can vote.\n\nDirections: GP
 S address:  2 Cherry Hill Road, Street, Md 21154\n\nLook for MG Octago
 n signs enroute\nSorry, no pets please - Park Rules.\n\nOur Regular Fe
 atures  Unique Rocks show shirt  Food truck on site  A field 
 full of British cars in a casual park setting  Many vendors of new 
 and used parts.  Uncle Larry’s Swap Meet  A great selection of
  various British cars for sale.  Classic British Invasion Music by 
 Jamming Jefferson  Trivia games – 50/50 – T shirt shoot  Kid
 ’s scavenger hunt  Pre-register attendees can make song request 
  A wide range of classes for awards for all British Marques, the Mur
 phy Cup for best MGB of the show & The Senator Norman Cup for Best of 
 Show.\n\nPre-Register!  Skip that long line of on-site registrants and
  save $$. Awards are generally 3 or more per class but may vary as reg
 istration indicates. We base our new classes on pre-registrations, so 
 if you want to justify any new classes make sure you pre-register. Das
 h plaques only guaranteed to pre-registrants.\n\nImportant times:  9:0
 0 AM Field Opens 10:00 AM ALL vendors should be in place 1:00 PM Votin
 g closed Approx. 3PM Awards presentation\n\nFor additional information
 , email or call:  Co-Chair: Richard Liddick  Email: RGL2MGBGT@aol.com 
 Phone: 410-817-6862 Co-Chair: Eric Reitz – Email: Reitz1@aol.com Pho
 ne: 410-207-7548 NEW!!! Online Registration: http://www.mgsofbaltimore
 .org\n\nFor more information visit https://northeastwheelsevents.com/e
 vents/44th-annual-mgs-on-the-rocks-british-car-show-amp-parts-market
DTSTART:20230930T130000Z
DTEND:20230930T190000Z
CATEGORIES:british, car, show
LOCATION:Rocks State Park - 4-H Camp
WEBSITE:http://www.mgsofbaltimore.org
URL:http://www.mgsofbaltimore.org
CONTACT:410-817-6862
ORGANIZER:Richard Liddick - MGs of Baltimore, Ltd Car Club
ATTACH;FMTTYPE="image/jpeg":
ATTENDEE;ROLE=REQ-PARTICIPANT;PARTSTAT=ACCEPTED;RSVP=TRUE;CN="Richard 
 Liddick":https://northeastwheelsevents.com/profile/RichardLiddick
ATTENDEE;ROLE=REQ-PARTICIPANT;PARTSTAT=ACCEPTED;RSVP=TRUE;CN="Richard 
 Liddick":https://northeastwheelsevents.com/profile/RichardLiddick207
END:VEVENT
END:VCALENDAR
