BEGIN:VCALENDAR
PRODID:NingEventWidget-v1
VERSION:2.0
METHOD:PUBLISH
BEGIN:VEVENT
UID:5167423:Event:333920
DTSTAMP:20260423T033957Z
SUMMARY:47th Annual Old Car Show w/ Flea Market
DESCRIPTION:47th Annual Old Car Show w/ Outdoor Flea Market, Saturday,
  October 26, 2024 from 9:00 am - 3:00 pm, w/ rain date on Sunday, Octo
 ber 27, 2024. Knight Rider, \"KIT\" vehicle on display! Host by \"Free
  Spirit\" Chapter, Buick Club of America. Not responsible for injury, 
 theft, or loss. DJ and food selections available. 9 classes 3 awards i
 n each class. Proud sponsor of DREAM COME TRUE! www.buickfreespirit.or
 g.\n\nFor more information visit https://northeastwheelsevents.com/eve
 nts/47th-annual-old-car-show-w-flea-market
DTSTART:20241026T130000Z
DTEND:20241026T190000Z
CATEGORIES:car, show
LOCATION:Phifer's Ice Dam 880 Main Road, Lehighton, Pa 18235
WEBSITE:http://www.buickfrespirit.org
URL:http://www.buickfrespirit.org
CONTACT:4844643418
ORGANIZER:\"Free Spirit\" Chapter Buick Club of America
ATTACH;FMTTYPE="image/jpeg":https://storage.ning.com/topology/rest/1.0
 /file/get/12924484297?profile=original
ATTENDEE;ROLE=REQ-PARTICIPANT;PARTSTAT=ACCEPTED;RSVP=TRUE;CN="sally ge
 tz":https://northeastwheelsevents.com/profile/sallygetz541
END:VEVENT
END:VCALENDAR
