BEGIN:VCALENDAR
PRODID:NingEventWidget-v1
VERSION:2.0
METHOD:PUBLISH
BEGIN:VEVENT
UID:5167423:Event:335537
DTSTAMP:20260423T073234Z
SUMMARY:48th Annual Old Car Show w/ Outdoor Flea Market
DESCRIPTION:48th Annual Old Car Show w/ Outdoor Flea Market, Saturday,
  October 26, 2024 w/ rain date of Sunday, October 27, 2024 at Phifer's
  Ice Dam, 880 Main Road, Lehighton, Pa 18235 from 9 AM - 3 PM. 9 class
 es, 3 awards in each class, plus the Honorary David Brady Award. Pleas
 e see flyer for more information.\r\nThe registration for the show car
 s will be open on the day of the event from 9 AM to 12 Noon, with dash
  plaques available for the first 100 cars.\r\nParticipants are request
 ed to keep their cars on display until after the awards presentation a
 t 2:30 PM. More information can be found on the event flyer. Don't mis
 s this opportunity to enjoy classic cars and shop at the outdoor flea 
 market in Weissport, Pennsylvania.\n\nFor more information visit https
 ://northeastwheelsevents.com/events/48th-annual-old-car-show-w-outdoor
 -flea-market
DTSTART:20241026T130000Z
DTEND:20241026T190000Z
CATEGORIES:carshow, fleamarket
LOCATION:Phifer's Ice Dam
WEBSITE:https://allevents.in/lehighton/48th-annual-old-car-show-w-outd
 oor-flea-market/200027034831724
URL:https://allevents.in/lehighton/48th-annual-old-car-show-w-outdoor-
 flea-market/200027034831724
CONTACT:610-377-1773
ORGANIZER:Free Spirit Chapter of Buick Club of America
ATTACH;FMTTYPE="image/jpeg":https://storage.ning.com/topology/rest/1.0
 /file/get/13034289253?profile=original
ATTENDEE;ROLE=REQ-PARTICIPANT;PARTSTAT=ACCEPTED;RSVP=TRUE;CN="William 
 Bruce":https://northeastwheelsevents.com/profile/WilliamBruce
END:VEVENT
END:VCALENDAR
