BEGIN:VCALENDAR
PRODID:NingEventWidget-v1
VERSION:2.0
METHOD:PUBLISH
BEGIN:VEVENT
UID:5167423:Event:334766
DTSTAMP:20260424T004012Z
SUMMARY:4th Annual - 2024 Big Apple Truck & Tractor Show
DESCRIPTION:Rain or Shine - October 27, 2024 @ \"The Big Apple\" 207 A
 rnold St. Wrentham, MA.\r\n\r\n$20 per truck / Hay Rides $5 per family
  / Food Trucks / Farm Stand / Family Fun Events.\r\nAmazing Scenic vie
 ws and Fall Foliage!\r\nVendors Welcome!\r\nChecks Made Payable to:  
 Make A Wish - MA & RI.\r\n-Trucks enter at 207 Arnold St, Wrentham, MA
 . \r\n-Spectators enter at 64 Otis St Wrentham, MA. -NO TRAILERS! -Sp
 ectator collection will be collected upon entry! -If donation is in ch
 eck form, make check payable to: “Make a Wish - MA & RI -Spectator P
 arking to be assigned upon arrival - No special parking.\r\nBig Apple 
 Truck Show!\r\n\r\nWe are a non-profit big rig truck show in Massachus
 etts that benefits Make-A-Wish of Mass And RI for ill children. Our an
 nual event showcases the latest and greatest in commercial trucking an
 d raises funds to grant wishes for children with critical illnesses.\r
 \nENTRY: $20 per Truck.\r\nSPECTATOR: Donations Welcome! \r\nNew & Old
  trucks and tractors welcome!\r\nQuestions about the show?BigAppleTruc
 kShow@gmail.com\r\nDo you have questions or comments about the event? 
 Do you need special accommodations? Send me a message, and I will get 
 back to you as soon as we can.\r\n\r\n\n\nFor more information visit h
 ttps://northeastwheelsevents.com/events/4th-annual-2024-big-apple-truc
 k-tractor-show
DTSTART:20241027T120000Z
DTEND:20241027T200000Z
CATEGORIES:truckshow, charity
LOCATION:\"The Big Apple\"
WEBSITE:https://www.facebook.com/p/The-Big-Apple-Truck-Tractor-Show-20
 24-61566138460692/
URL:https://www.facebook.com/p/The-Big-Apple-Truck-Tractor-Show-2024-6
 1566138460692/
CONTACT:508-384-3055
ORGANIZER:Big Apple Farm
ATTACH;FMTTYPE="image/jpeg":https://storage.ning.com/topology/rest/1.0
 /file/get/12992229658?profile=original
ATTENDEE;ROLE=REQ-PARTICIPANT;PARTSTAT=ACCEPTED;RSVP=TRUE;CN="William 
 Bruce":https://northeastwheelsevents.com/profile/WilliamBruce
END:VEVENT
END:VCALENDAR
