BEGIN:VCALENDAR
PRODID:NingEventWidget-v1
VERSION:2.0
METHOD:PUBLISH
BEGIN:VEVENT
UID:5167423:Event:130524
DTSTAMP:20260424T152810Z
SUMMARY:4th Annual AmeriCarna Live Car Show hosted by Ray Evernham
DESCRIPTION:\n4th annual AmeriCarna Live Car Show hosted by Ray Evernh
 am\nIngersoll Rand North American Headquarters, 800 Beaty Street, Davi
 dson, NC 28036\nSaturday, Nov. 26th,  10am-4pm (show cars from 7am)\n
 Open to all vehicles.\n100% of the proceeds from AmeriCarna LIVE will 
 be donated to the Evernham Family – Racing for a Reason Foundation a
 nd go to support the IGNITE Community Center in Davidson, N.C. for you
 ng adults with high-functioning autism or Asperger’s Syndrome\nRay E
 vernham’s fourth annual AmeriCarna LIVE car show presented by MSC In
 dustrial Supply Co. and Autogeek will be held on Saturday, November 26
 th. The show will again be open to all cars, trucks & motorcycles and 
 held at Ingersoll Rand’s beautiful North American Corporate Headquar
 ters in Davidson, N.C. The show is open to the public for $5 per perso
 n and kids under 10 are free! Car show participants can pre-register c
 ars online at www.AmeriCarnaLive.com for just $25 before Nov.1st, or r
 egister at the gate on event day for $30. Gates open for car entrants 
 at 7 a.m. and for spectators at 10 a.m. Choice Awards, Live Music, Sil
 ent Auction, Cars from the AmeriCarna TV series, local celebrities and
  their cars, Food Trucks, various vendors and more. \nFind the event 
 on Facebook: https://www.facebook.com/events/1377392818944344/\n\nThe 
 2015 event hosted some 5,000 car lovers and nearly 450 show cars. \nL
 ast year’s event stars included Ryan Newman, driver of the No. 31 Ca
 terpillar Chevrolet, and Chad Knaus, crew chief of the No. 48 Lowe’s
  Chevrolet. Celebrity cars on display included: • Dale Earnhardt Jr.
 ’s 1965 Chevy Impala • Kelley Earnhardt Miller’s 2002 Intimidato
 r Camaro • Kyle and Kurt Busch’s family Classic Fords • Chad Kna
 us’ 1966 Chevy Nova • Ryan Newman 1933 Ford Coupe • Classic moon
 shine cars from Willie Clay Call and Call Family Distillers • Severa
 l cars from the collection of Rick Hendrick • Cars from Season III o
 f “AmeriCarna”\nAnd many others.\n\n\nFor more information visit h
 ttps://northeastwheelsevents.com/events/4th-annual-americarna-live-car
 -show-hosted-by-ray-evernham
DTSTART:20161126T150000Z
DTEND:20161126T210000Z
CATEGORIES:fundraiser, car, show
LOCATION:Ingersoll Rand North American Headquarters
WEBSITE:http://www.americarnalive.com/
URL:http://www.americarnalive.com/
CONTACT:704-360-1516
ORGANIZER:Det Cullum
ATTACH;FMTTYPE="image/jpeg":http://storage.ning.com/topology/rest/1.0/
 file/get/2284090314?profile=original
ATTENDEE;ROLE=REQ-PARTICIPANT;PARTSTAT=ACCEPTED;RSVP=TRUE;CN="Larry Gr
 ossflam":https://northeastwheelsevents.com/profile/LarryGrossflam
END:VEVENT
END:VCALENDAR
