BEGIN:VCALENDAR
PRODID:NingEventWidget-v1
VERSION:2.0
METHOD:PUBLISH
BEGIN:VEVENT
UID:5167423:Event:335432
DTSTAMP:20260423T020528Z
SUMMARY:4th Annual Cars and Coffee with a Cop
DESCRIPTION:Part car-show, part-coffee break, and part-block party! Al
 l are welcome to join us at Boro Park, from higher-end models, classic
  cars, unique vehicles, or tricked-out custom mods! A free dash plaque
  will be given to the first 200 vehicles.Bring the whole family, get t
 o know our officers and check out some cool cars. Free coffee and doug
 hnuts from Naz-O-Nut, as supplies last. 95.1 ZZO will be broadcasting 
 live and a DJ will spin the tunes. Raffles, door prizes, as well as va
 rious vendors and car dealerships. See you there!\n\nFor more informat
 ion visit https://northeastwheelsevents.com/events/4th-annual-cars-and
 -coffee-with-a-cop
DTSTART:20241026T120000Z
DTEND:20241026T160000Z
CATEGORIES:carshow
LOCATION:Nazareth Boro Park
WEBSITE:https://allevents.in/nazareth/4th-annual-cars-and-coffee-with-
 a-cop/200027221473320
URL:https://allevents.in/nazareth/4th-annual-cars-and-coffee-with-a-co
 p/200027221473320
CONTACT:610-759-0202
ORGANIZER:Nazareth Borough Police Department
ATTACH;FMTTYPE="image/jpeg":https://storage.ning.com/topology/rest/1.0
 /file/get/13028070472?profile=original
ATTENDEE;ROLE=REQ-PARTICIPANT;PARTSTAT=ACCEPTED;RSVP=TRUE;CN="William 
 Bruce":https://northeastwheelsevents.com/profile/WilliamBruce
END:VEVENT
END:VCALENDAR
