BEGIN:VCALENDAR
PRODID:NingEventWidget-v1
VERSION:2.0
METHOD:PUBLISH
BEGIN:VEVENT
UID:5167423:Event:344773
DTSTAMP:20260423T183444Z
SUMMARY:4th Annual Field of Dreams Car & Truck Show
DESCRIPTION:\r\nJoin us for the 4th Annual Field of Dreams Car & Truck
  show! Open to all years, makes, and models. Trophies for winners!\r\n
 Food, live music, raffles, bathrooms, open playground for the kids… 
 this is an event for the whole family!\r\nThis is now a FREE show! The
 re is no fee to register in the show, but we will be accepting donatio
 ns for the Toms River Field of Dreams.\r\nRegistration is from 9am-11a
 m, the show is from 11am-3pm. We hope to see you there!\r\nPre-registe
 r online today: https://rwjbhfieldofdreams.com/product/car-show-regis
 tration-2025/\r\n\r\n\r\n\r\n\r\n\r\n\n\nFor more information visit ht
 tps://northeastwheelsevents.com/events/4th-annual-field-of-dreams-car-
 truck-show
DTSTART:20251005T130000Z
DTEND:20251005T190000Z
CATEGORIES:carshow, benefit
LOCATION:RWJBH Field of Dreams
WEBSITE:https://rwjbhfieldofdreams.com/event/trfod-car-show-2025/
URL:https://rwjbhfieldofdreams.com/event/trfod-car-show-2025/
CONTACT:732-363-2900
ORGANIZER:RWJ Barnabas Field of Dreams
ATTACH;FMTTYPE="image/jpeg":https://storage.ning.com/topology/rest/1.0
 /file/get/13725605453?profile=original
ATTENDEE;ROLE=REQ-PARTICIPANT;PARTSTAT=ACCEPTED;RSVP=TRUE;CN="William 
 Bruce":https://northeastwheelsevents.com/profile/WilliamBruce
END:VEVENT
END:VCALENDAR
