BEGIN:VCALENDAR
PRODID:NingEventWidget-v1
VERSION:2.0
METHOD:PUBLISH
BEGIN:VEVENT
UID:5167423:Event:151241
DTSTAMP:20260423T055905Z
SUMMARY:4th Annual Leave Cystic Fibrosis In Our Dust Car Show
DESCRIPTION:Come join us for the largest show in the Lehigh Valley. Fu
 n for the entire family. Car Show, kids powerwheel show, live entertai
 nment, bounce house, vendors, food trucks, raffles, auctions, door pri
 zes....and so much more\n\nFor more information visit https://northeas
 twheelsevents.com/events/4th-annual-leave-cystic-fibrosis-in-our-dust-
 car-show
DTSTART:20170903T150000Z
DTEND:20170903T210000Z
CATEGORIES:fundraiser, car, show
LOCATION:101 Founders Way Bethlehem, Pa
WEBSITE:http://www.cfcarshow.com
URL:http://www.cfcarshow.com
CONTACT:
ORGANIZER;CN="Donald Deck":https://northeastwheelsevents.com/profile/D
 onaldDeck
ATTACH;FMTTYPE="image/jpeg":http://storage.ning.com/topology/rest/1.0/
 file/get/2284099081?profile=original
ATTENDEE;ROLE=REQ-PARTICIPANT;PARTSTAT=ACCEPTED;RSVP=TRUE;CN="Donald D
 eck":https://northeastwheelsevents.com/profile/DonaldDeck
END:VEVENT
END:VCALENDAR
