BEGIN:VCALENDAR
PRODID:NingEventWidget-v1
VERSION:2.0
METHOD:PUBLISH
BEGIN:VEVENT
UID:5167423:Event:241505
DTSTAMP:20260420T183149Z
SUMMARY:4th Annual Reserve at Gwynedd Show to benefit DARE, Upper Gwyn
 edd, PA
DESCRIPTION:The Reserve at Gwynedd will hold it's 4th Annual Car & Mot
 orcycle Show to benefit the Upper Gwynedd Police DARE program!  The S
 how takes place at the community's park-like setting on Saturday, JUNE
  8 from 10 am to 2 pm.\nThe judged show will have music and food!  Wi
 nners will do a victory lap around the community at the end of the Sho
 w!\n$20 advance registration.  Tee shirt and custom dash plaque plus 
 free coffee donuts for each entry.   Entry Form can be downloaded fr
 om website.  \n\nFor more information visit https://northeastwheelse
 vents.com/events/4th-annual-reserve-at-gwynedd-show-to-benefit-dare
DTSTART:20190608T140000Z
DTEND:20190608T180000Z
CATEGORIES:car, show
LOCATION:Reserve at Gwynedd
WEBSITE:http://www.reserevatgwynedd.com
URL:http://www.reserevatgwynedd.com
CONTACT:2156998077
ORGANIZER;CN="Victoria Graves":https://northeastwheelsevents.com/profi
 le/VictoriaGraves
ATTACH;FMTTYPE="image/jpeg":https://storage.ning.com/topology/rest/1.0
 /file/get/1709325329?profile=original
ATTENDEE;ROLE=REQ-PARTICIPANT;PARTSTAT=ACCEPTED;RSVP=TRUE;CN="Victoria
  Graves":https://northeastwheelsevents.com/profile/VictoriaGraves
END:VEVENT
END:VCALENDAR
