BEGIN:VCALENDAR
PRODID:NingEventWidget-v1
VERSION:2.0
METHOD:PUBLISH
BEGIN:VEVENT
UID:5167423:Event:153
DTSTAMP:20260422T223241Z
SUMMARY:4th Annual Return To The Milltown -Palmer, MA
DESCRIPTION:4th Annual Return To The Milltown\nFriday, August 6, 2010 
 at 3:00pm\nEnd - Sunday, August 8, 2010 at 2:00am\nCrossroads,1701 Par
 k St., Palmer, Mass 01069\nDescription\npre 67, rods, customs, stocker
 s, race cars, old school bikes, pin up contest, awards, loads of vendo
 rs, beer, food, camping, tattoos, a real hot rod rock n roll weekend, 
 $20,,,,$10 after 3 on Saturday\nPhone: 413 627 0834.....myspace.com/mi
 lltownrodz\n18 bands, Miss Milltown pin up contest, gassers, race cars
 , bikes, m t b a -- myspace.com/milltownrodz\n413 627 0834 ......... m
 illink@hotmail.com\n\n\nFor more information visit https://northeastwh
 eelsevents.com/events/4th-annual-return-to-the
DTSTART:20100806T040000Z
DTEND:20100809T035900Z
CATEGORIES:car-show
LOCATION:Crossroads
WEBSITE:http://www.myspace.com/milltownrodz
URL:http://www.myspace.com/milltownrodz
CONTACT:413 627 0834
ORGANIZER:
ATTACH;FMTTYPE="image/jpeg":http://storage.ning.com/topology/rest/1.0/
 file/get/2284045753?profile=original
ATTENDEE;ROLE=REQ-PARTICIPANT;PARTSTAT=ACCEPTED;RSVP=TRUE;CN="Michael 
 Thies":https://northeastwheelsevents.com/profile/MichaelThies
END:VEVENT
END:VCALENDAR
