BEGIN:VCALENDAR
PRODID:NingEventWidget-v1
VERSION:2.0
METHOD:PUBLISH
BEGIN:VEVENT
UID:5167423:Event:136867
DTSTAMP:20260424T033607Z
SUMMARY:4th Annual Santa Claus Rally
DESCRIPTION:Breakfast meet: 8:30. Rally start 10:15\nPlease bring an u
 nwrapped toy.\n\nFor more information visit https://northeastwheelseve
 nts.com/events/4th-annual-santa-claus-rally
DTSTART:20161203T133000Z
DTEND:20161203T190000Z
CATEGORIES:road, rally
LOCATION:the Flying W, Medford NJ
WEBSITE:http://highoctanesj.com/
URL:http://highoctanesj.com/
CONTACT:
ORGANIZER:High Octane NJ
ATTACH;FMTTYPE="image/jpeg":
ATTENDEE;ROLE=REQ-PARTICIPANT;PARTSTAT=ACCEPTED;RSVP=TRUE;CN="Pamela H
 irschhorn":https://northeastwheelsevents.com/profile/PamelaHirschhorn
END:VEVENT
END:VCALENDAR
