BEGIN:VCALENDAR
PRODID:NingEventWidget-v1
VERSION:2.0
METHOD:PUBLISH
BEGIN:VEVENT
UID:5167423:Event:123505
DTSTAMP:20260424T172220Z
SUMMARY:4th Annual Tony's Place Bar & Grill Car Show
DESCRIPTION:Car show 40 trophies DJ Tom E Tunes\n\nFor more informatio
 n visit https://northeastwheelsevents.com/events/4th-annual-tony-s-pla
 ce-bar-grill-car-show
DTSTART:20161008T130000Z
DTEND:20161008T190000Z
CATEGORIES:car, show
LOCATION:Tony's Place Bar & Grill Ivyland, PA
WEBSITE:http://www.movinonkruzers.com/4th-annual-tonys-place-car-show-
 oct-8th.html
URL:http://www.movinonkruzers.com/4th-annual-tonys-place-car-show-oct-
 8th.html
CONTACT:215 820-3276
ORGANIZER:Movin' On Kruzers
ATTACH;FMTTYPE="image/jpeg":http://storage.ning.com/topology/rest/1.0/
 file/get/2284088652?profile=original
ATTENDEE;ROLE=REQ-PARTICIPANT;PARTSTAT=ACCEPTED;RSVP=TRUE;CN="Pamela H
 irschhorn":https://northeastwheelsevents.com/profile/PamelaHirschhorn
END:VEVENT
END:VCALENDAR
