BEGIN:VCALENDAR
PRODID:NingEventWidget-v1
VERSION:2.0
METHOD:PUBLISH
BEGIN:VEVENT
UID:5167423:Event:230915
DTSTAMP:20260420T224136Z
SUMMARY:4th Krusin For Kids Car, Truck & Motorcycle Show
DESCRIPTION:Good Morning,\n \n\n4th  Krusin for Kids Car, Truck & Mo
 torcycle Show\nJune 7th, 2019 3:00pm-9:00pm\nJohn Rudy County Park\n40
 0 Mundis Race Rd\nYork, PA 17406\nAll vehicles. $10 pre-reg/$15 day of
 .\nProceeds benefit Sunshine Kids (SunshineKids.org)\nContact Marty Cl
 ayton 717-814-4250. MClayton@Homesale.com\nVisit www.Homesale.com/Krus
 inForKids  for more info, registration and directions to event.\n\nFo
 r more information visit https://northeastwheelsevents.com/events/4th-
 krusin-for-kids-car-truck-amp-motorcycle-show
DTSTART:20190607T190000Z
DTEND:20190608T010000Z
CATEGORIES:sunshine, kids, fundraiser
LOCATION:John Rudy County Park
WEBSITE:http://Homesale.com/Krusinforkids
URL:http://Homesale.com/Krusinforkids
CONTACT:717-814-4250
ORGANIZER;CN="Marty Clayton":https://northeastwheelsevents.com/profile
 /MartyClayton
ATTACH;FMTTYPE="image/jpeg":
ATTENDEE;ROLE=REQ-PARTICIPANT;PARTSTAT=ACCEPTED;RSVP=TRUE;CN="Marty Cl
 ayton":https://northeastwheelsevents.com/profile/MartyClayton
END:VEVENT
END:VCALENDAR
