BEGIN:VCALENDAR
PRODID:NingEventWidget-v1
VERSION:2.0
METHOD:PUBLISH
BEGIN:VEVENT
UID:5167423:Event:334359
DTSTAMP:20260422T214330Z
SUMMARY:4x4 For The Blue Jeep,Truck, Car Show
DESCRIPTION:Get ready for the ultimate Jeep and truck show celebrating
  our love for 4x4 vehicles and supporting our local law enforcement!!!
 !\r\n\r\n\r\n4Lo Events LLC, VFW Post #1451, South River PBA #62 prese
 nt 4x4 For The Blue Jeep,Truck, Car Show!  When? Sunday, September 29 
 · 12 - 5pm EDT. Severe weather reschedule date, October 13th.  Where?
  Veterans of Foreign Wars Post 1451, 31 Reid Street, South River, NJ  
 4x4 For The Blue Jeep,Truck, Car Show is a South River PBA #62 fundrai
 ser!  Parking starts at 11 am and must be parked by 12 pm  All types o
 f 4x4’s, music, vendors, crafters, giveaways, entertainment, trophie
 s, and food trucks!!!!  People's Choice, Best in Show, and others! Ope
 n to all types of Jeeps, Trucks, 4x4's, Cars (Jeeps, Broncos, Trucks, 
 Overlanders…) Trophy Sponsor: Theo (A Cannabis Company)  A portion o
 f the proceeds will benefit the South River PBA #62.  $20 to register 
 each vehicle. Registration gets you Show entry (optional to be in the 
 show), park inside VFW property with other 4x4’s. $30 for walk-in re
 gistrations.  Free to spectators. Street Parking is available.  Intere
 sted in being a vendor? Email us at info@4loevents OR direct message o
 ur Facebook page or Instagram. Vendor payments will only be through Sq
 uareup.  For more info about the South River PBA, https://www.facebook
 .com/PBALOCAL62\r\n\r\n\r\n\r\nhttps://www.4loevents.com/; We are tryi
 ng to post as many Thin Blue Line Flags as we can. \r\n\r\nFor an off
 icial TBL event flag go to www.BuyHeroStuff.com\r\n\n\nFor more inform
 ation visit https://northeastwheelsevents.com/events/4x4-for-the-blue-
 jeep-truck-car-show
DTSTART:20240929T160000Z
DTEND:20240929T210000Z
CATEGORIES:carshow, benefit
LOCATION:Veterans of Foreign Wars Post 1451
WEBSITE:https://www.eventbrite.com/e/4x4-for-the-blue-jeeptruck-car-sh
 ow-tickets-914951473487
URL:https://www.eventbrite.com/e/4x4-for-the-blue-jeeptruck-car-show-t
 ickets-914951473487
CONTACT:732-955-7363
ORGANIZER:4Lo Events LLC
ATTACH;FMTTYPE="image/jpeg":https://storage.ning.com/topology/rest/1.0
 /file/get/12950467471?profile=original
ATTENDEE;ROLE=REQ-PARTICIPANT;PARTSTAT=ACCEPTED;RSVP=TRUE;CN="William 
 Bruce":https://northeastwheelsevents.com/profile/WilliamBruce
END:VEVENT
END:VCALENDAR
