BEGIN:VCALENDAR
PRODID:NingEventWidget-v1
VERSION:2.0
METHOD:PUBLISH
BEGIN:VEVENT
UID:5167423:Event:326110
DTSTAMP:20260421T110906Z
SUMMARY:50th Cars In The Park Car Show
DESCRIPTION:Cars in The Park, come help us celebrate our 50th year of 
 car shows at Hickories Park, and our 52nd as a Club. Join our Car Show
  and Flea Market, Sponsored by Gary Wilcox Towing. Brought to you by t
 he Triple Cities Street Rods Club. Sunday, July 14th at Hickories Park
 , Owego NY. Exit 65, rt.17/86. 8am-4pm, public admission-$2 Donation. 
 Any cars, trucks, bikes allowed. Flea market, parts and craft show, ki
 ds games. food and DJ, Car registration due by 1pm. Awards @ 3pm. Dash
  Plaques, give-a-ways, 50/50 raffles, and more. Vendors call Bob Butle
 r 607-227-0119  to register, or mail 224 Pierce Road,  Endwell, NY 1
 3760 or Roger Studer 324 Cedarhurst Road, Kirkwood, NY 13795 to regist
 er. Check for more info. at https://www.facebook.com/TripleCitiesStree
 tRods/\n\nFor more information visit https://northeastwheelsevents.com
 /events/50th-cars-in-the-park
DTSTART:20240714T120000Z
DTEND:20240714T200000Z
CATEGORIES:car, "show/flea", market
LOCATION:Hickories Park, Owego NY
WEBSITE:https://www.facebook.com/triplecitiesstreetrods/
URL:https://www.facebook.com/triplecitiesstreetrods/
CONTACT:607-227-0119
ORGANIZER:Bob Butler
ATTACH;FMTTYPE="image/jpeg":https://storage.ning.com/topology/rest/1.0
 /file/get/12421782469?profile=original
ATTENDEE;ROLE=REQ-PARTICIPANT;PARTSTAT=ACCEPTED;RSVP=TRUE;CN="William 
 Bruce":https://northeastwheelsevents.com/profile/WilliamBruce
END:VEVENT
END:VCALENDAR
