BEGIN:VCALENDAR
PRODID:NingEventWidget-v1
VERSION:2.0
METHOD:PUBLISH
BEGIN:VEVENT
UID:5167423:Event:17501
DTSTAMP:20260421T203344Z
SUMMARY:52nd Annual Baierl Subaru Pittsburgh World of Wheels
DESCRIPTION:America's love affair with the automobile is legendary. In
  fact, for over fifty-seven years, custom car shows have paid tribute 
 to the innovative workmanship that continuously re-invents and improve
 s the vehicles of yesterday and today. Championship Auto Shows (CASI),
  the undisputed leader in indoor custom car show production, produces 
 the largest show series in the business: better known under the monike
 rs of Autorama or World of Wheels. Close to 20 events are held annuall
 y across the United States and Canada.\n\nHot rods are always at the h
 eart of each show, but in recent years the composition has expanded to
  include manufacturers displays. As a result, today's shows appeal equ
 ally to those who own competition cars, specialty and concept vehicles
  and those who dream about owning them.\nShow Times\nFriday, January 2
 5: 3pm - 10pm\nSaturday, January 26: 11am - 10pm\nSunday, January 27: 
 11am - 7pm\n\nFor more information visit https://northeastwheelsevents
 .com/events/52nd-annual-baierl-subaru-pittsburgh-world-of-wheels
DTSTART:20130125T200000Z
DTEND:20130128T000000Z
CATEGORIES:auto, show
LOCATION:David Lawrence Convention Center Pittsburgh, PA
WEBSITE:http://www.autorama.com/
URL:http://www.autorama.com/
CONTACT:248 373-1700
ORGANIZER:Championship Auto Shows Inc
ATTACH;FMTTYPE="image/jpeg":http://storage.ning.com/topology/rest/1.0/
 file/get/2146882013?profile=original
ATTENDEE;ROLE=REQ-PARTICIPANT;PARTSTAT=ACCEPTED;RSVP=TRUE;CN="Pamela H
 irschhorn":https://northeastwheelsevents.com/profile/PamelaHirschhorn
END:VEVENT
END:VCALENDAR
