BEGIN:VCALENDAR
PRODID:NingEventWidget-v1
VERSION:2.0
METHOD:PUBLISH
BEGIN:VEVENT
UID:5167423:Event:317292
DTSTAMP:20260422T003812Z
SUMMARY:53rd Swigart Museum Car Show
DESCRIPTION:The 53rd Annual Swigart Museum Car \nJoin us on Saturday 
 August 5, 2023 for our annual car show here at the Swigart Museum, “
 America’s Oldest Car Museum”!\nRegistrations can be found here, yo
 u can print, fill out and mail it to us.http://www.swigartmuseum.com/2
 023Meet.pdf\n\nThe public is welcome to come to the car show, and stay
  all day if desired. If you have a collector car please consider regis
 tering your car. The show is open to all automobiles, trucks, and moto
 rcycles.\nLunch and dinner options available with registration.\n\nMor
 e information can be found on our websitehttp://www.swigartmuseum.com/
 meet.html\n\nIf you would like to be a sponsor and/or donate a raffle 
 item/door prize, please call Jace Long at (814)-643-2024. We greatly a
 ppreciate all the support!\n\n\n\nFor more information visit https://n
 ortheastwheelsevents.com/events/53rd-swigart-museum-car-show
DTSTART:20230805T123000Z
DTEND:20230805T200000Z
CATEGORIES:car, show
LOCATION:Swigart Museum
WEBSITE:http://www.swigartmuseum.com/
URL:http://www.swigartmuseum.com/
CONTACT:814-643-0885
ORGANIZER:Jace Long
ATTACH;FMTTYPE="image/jpeg":https://storage.ning.com/topology/rest/1.0
 /file/get/12150466264?profile=original
ATTENDEE;ROLE=REQ-PARTICIPANT;PARTSTAT=ACCEPTED;RSVP=TRUE;CN="Lonnie S
 mith Jr":https://northeastwheelsevents.com/profile/LonnieSmithJr
END:VEVENT
END:VCALENDAR
