BEGIN:VCALENDAR
PRODID:NingEventWidget-v1
VERSION:2.0
METHOD:PUBLISH
BEGIN:VEVENT
UID:5167423:Event:249166
DTSTAMP:20260419T205625Z
SUMMARY:59th Annual Seaway Festival Car Show
DESCRIPTION:Sunday, July 28, 20189 AM – 4 PMOVER 80 TROPHIES – 24 
 CLASSESIncluding motorcycles, bicycles and pedal cars!\nShow vehicles 
 – Registration fee is $10 each, must be on field by noon.\nShow incl
 udes a Flea Market\nFLEA MARKET VENDERS and CRAFTERS WANTEDPedestrian 
 Gates Open 9 AM – 3 PM; Fee is $2; FREE FOR VETERANS Club Email Addr
 ess: seawaycruisers@yahoo.com\n\nFor more information visit https://no
 rtheastwheelsevents.com/events/59th-annual-seaway-festival-car-show
DTSTART:20190728T130000Z
DTEND:20190728T200000Z
CATEGORIES:car, show
LOCATION:Bridge &amp; Port Authority Grounds in Ogdensburg, N.Y.
WEBSITE:http://www.seawaycruisers.com/car-show
URL:http://www.seawaycruisers.com/car-show
CONTACT:
ORGANIZER:Seaway Cruisers Car Club
ATTACH;FMTTYPE="image/jpeg":
ATTENDEE;ROLE=REQ-PARTICIPANT;PARTSTAT=ACCEPTED;RSVP=TRUE;CN=CrazyJerr
 y:https://northeastwheelsevents.com/profile/CrazyJerry
END:VEVENT
END:VCALENDAR
