BEGIN:VCALENDAR
PRODID:NingEventWidget-v1
VERSION:2.0
METHOD:PUBLISH
BEGIN:VEVENT
UID:5167423:Event:689
DTSTAMP:20260422T223143Z
SUMMARY:5th ANNUAL DOO WOP & STREET FESTIVAL CAR SHOW. PHILADELPHIA, P
 A
DESCRIPTION:TOP 50, DOOR PRIZES, GOODY BAGS, DASH PLAQUES, LIVE ENTERT
 AINMENT. RAINDATE – August 8th BENEFITS PASSYUNK SQUARE CIVIC ASSN.\
 n\nFor more information visit https://northeastwheelsevents.com/events
 /5th-annual-doo-wop-street
DTSTART:20100801T150000Z
DTEND:20100801T210000Z
CATEGORIES:festival, car, "show."
LOCATION:EAST PASSYUNK AVE. (BETWEEN FEDERAL & MCKEAN STS.)
WEBSITE:http://NEMCC2003@AOL.COM
URL:http://NEMCC2003@AOL.COM
CONTACT:215-331-2324
ORGANIZER;CN="Richard Scott":https://northeastwheelsevents.com/profile
 /RichardScott
ATTACH;FMTTYPE="image/jpeg":
ATTENDEE;ROLE=REQ-PARTICIPANT;PARTSTAT=ACCEPTED;RSVP=TRUE;CN="Richard 
 Scott":https://northeastwheelsevents.com/profile/RichardScott
END:VEVENT
END:VCALENDAR
