BEGIN:VCALENDAR
PRODID:NingEventWidget-v1
VERSION:2.0
METHOD:PUBLISH
BEGIN:VEVENT
UID:5167423:Event:141291
DTSTAMP:20260423T003842Z
SUMMARY:5th Annual Kick Stands Up Motorcycle Poker Run and  Car Show f
 or Homeless Veterans
DESCRIPTION:Hosted by the Founding Sons Law Enforcement-Military Motor
 cycle Club and the Impressive and Aggressive Motor Club.\n\nFree Admis
 sion to the Public\n\nVeterans and their families from across Long Isl
 and will come together for the 5th Annual Kick Stands Up Motorcycle Po
 ker Run and Car Show. Come see beautiful bikes as well as custom and c
 lassic cars. Proceeds from the event will benefit Suffolk County Unite
 d Veterans which provides housing and support services for homeless ve
 terans.\n\nLive Music ~ Food and Drinks ~ 50/50 ~ Vendors ~ Raffle Pri
 zes ~ Includes Free Breakfast and Buffet Lunch ~ Poker Run Cash Prizes
  ~ Six Trophy Categories for Cars ~ First 100 Registrants Receive a Fr
 ee Commemorative T-Shirt\n\nFor info: http://ksu.scuv.org\nPhotos from
  last year's event: Click here\n\nFor more information visit https://n
 ortheastwheelsevents.com/events/5th-annual-kick-stands-up-motorcycle-p
 oker-run-and-car-show-for-1
DTSTART:20170716T150000Z
DTEND:20170716T200000Z
CATEGORIES:fundraiser
LOCATION:Association for Mental Health and Wellness
WEBSITE:http://ksu.scuv.org
URL:http://ksu.scuv.org
CONTACT:631-471-7242 x1329
ORGANIZER:Ruth McDade
ATTACH;FMTTYPE="image/jpeg":http://storage.ning.com/topology/rest/1.0/
 file/get/2284092587?profile=original
END:VEVENT
END:VCALENDAR
