BEGIN:VCALENDAR
PRODID:NingEventWidget-v1
VERSION:2.0
METHOD:PUBLISH
BEGIN:VEVENT
UID:5167423:Event:344192
DTSTAMP:20260424T042353Z
SUMMARY:5th Annual Oneida Fall Festival
DESCRIPTION:5th Annual Oneida Fall Festival\r\n5th Annual Oneida Fall 
 Fest!Date: Saturday, October 4th, 2025!Time: 11am to 5pm.Location: Fie
 ld on Mott StreetThere will be:- Pumpkin Races- 80+ Vendors!- Food Tru
 cks & hard cider- Live Music- Live wood carvings- Photographer on hand
  for family photos!- Face Painting- Antique Tractors- Touch-A-Truck!!!
 !- Bounce Houses- Airtime Inflatables & Event Rentals- Hot Air balloon
  - Airborne Adventures- Free Pumpkin decorating for kids- Cornhole gam
 es- Pumpkin Tic-Tac-Toe!- Hay rides!- And much much more!\n\nFor more 
 information visit https://northeastwheelsevents.com/events/5th-annual-
 oneida-fall-festival
DTSTART:20251004T150000Z
DTEND:20251004T210000Z
CATEGORIES:tractorshow, "touchatruck.", festival
LOCATION:Field on Mott Street
WEBSITE:https://allevents.in/oneida/5th-annual-oneida-fall-festival/20
 0027895461311
URL:https://allevents.in/oneida/5th-annual-oneida-fall-festival/200027
 895461311
CONTACT:315-363--3590
ORGANIZER:City of Oneida Parks and Recreation
ATTACH;FMTTYPE="image/jpeg":https://storage.ning.com/topology/rest/1.0
 /file/get/13717357700?profile=original
ATTENDEE;ROLE=REQ-PARTICIPANT;PARTSTAT=ACCEPTED;RSVP=TRUE;CN="William 
 Bruce":https://northeastwheelsevents.com/profile/WilliamBruce
END:VEVENT
END:VCALENDAR
