BEGIN:VCALENDAR
PRODID:NingEventWidget-v1
VERSION:2.0
METHOD:PUBLISH
BEGIN:VEVENT
UID:5167423:Event:111872
DTSTAMP:20260421T093956Z
SUMMARY:5th Annual Rock N Show for cancer
DESCRIPTION:Car , truck & motorcycle show music, food, VENDORS--50/50 
 trophies $10 entry --- proceeds benefit the Relay For Life of Fulton a
 nd Montgomery Counties---- Bounce house donated/sponsored by:Kyles Bou
 nce Rentals --Event Sponsored by JACC--- SPECTATORS: FREE ( please bri
 ng a non- perishable item/canned good- to go to local food bank) Event
  held RAIN or SHINE call Colleen: 518 774 2130 for more info I am look
 ing for Trophy sponsors/donations\n\nFor more information visit https:
 //northeastwheelsevents.com/events/5th-annual-rock-n-show-for-cancer
DTSTART:20160521T150000Z
DTEND:20160521T190000Z
CATEGORIES:fundraiser
LOCATION:Johnstown Area community center
WEBSITE:https://www.facebook.com/Johnstownareacommunitycenter/?fref=ts
 &__nodl
URL:https://www.facebook.com/Johnstownareacommunitycenter/?fref=ts&__n
 odl
CONTACT:5187742130
ORGANIZER;CN="colleen rumrill":https://northeastwheelsevents.com/profi
 le/colleenrumrill
ATTACH;FMTTYPE="image/jpeg":
ATTENDEE;ROLE=REQ-PARTICIPANT;PARTSTAT=ACCEPTED;RSVP=TRUE;CN="colleen 
 rumrill":https://northeastwheelsevents.com/profile/colleenrumrill
END:VEVENT
END:VCALENDAR
