BEGIN:VCALENDAR
PRODID:NingEventWidget-v1
VERSION:2.0
METHOD:PUBLISH
BEGIN:VEVENT
UID:5167423:Event:337704
DTSTAMP:20260424T055902Z
SUMMARY:5th Annual Victory Christian Fellowship Car Show
DESCRIPTION:Rain Date Saturday, October 11, 2025\nNoon – 3 pm\nOpen 
 to all makes and models\nProfessionally Judged \nFrom 9:45 AM - 11 AM
  Judging 11 AM - 1 PM\nFood Trucks\nFor further information contact ca
 rshows4nonprofits@gmail.com\n\nFor more information visit https://nort
 heastwheelsevents.com/events/5th-annual-victory-christian-fellowship-c
 ar-show
DTSTART:20251004T160000Z
DTEND:20251004T190000Z
CATEGORIES:show
LOCATION:Victory Christian Fellowship
WEBSITE:https://rebrand.ly/7c4o3qj
URL:https://rebrand.ly/7c4o3qj
CONTACT:3029836966
ORGANIZER;CN="LaBarre Everette":https://northeastwheelsevents.com/prof
 ile/LaBarreEverette
ATTACH;FMTTYPE="image/jpeg":https://storage.ning.com/topology/rest/1.0
 /file/get/13455116893?profile=original
ATTENDEE;ROLE=REQ-PARTICIPANT;PARTSTAT=ACCEPTED;RSVP=TRUE;CN="LaBarre 
 Everette":https://northeastwheelsevents.com/profile/LaBarreEverette
ATTENDEE;ROLE=REQ-PARTICIPANT;PARTSTAT=TENTATIVE;RSVP=TRUE;CN="William
  Bruce":https://northeastwheelsevents.com/profile/WilliamBruce
END:VEVENT
END:VCALENDAR
