BEGIN:VCALENDAR
PRODID:NingEventWidget-v1
VERSION:2.0
METHOD:PUBLISH
BEGIN:VEVENT
UID:5167423:Event:61339
DTSTAMP:20260423T153255Z
SUMMARY:5th Annual Wayne's Speed Shop Toys for Tots Car Gathering
DESCRIPTION:Sunday December 7th bring a new unwrapped toy and we will 
 have all the donuts and coffee you can eat and drink. This is to help 
 Toys for Tots gather more toys for kids. This is rain or shine so if w
 eather is bad feel free to come in your daily driver. All types of car
 s trucks and bikes are welcome. Bring cash for art auction\n\nFor more
  information visit https://northeastwheelsevents.com/events/5th-annual
 -wayne-s-speed-shop-toys-for-tots-car-gathering
DTSTART:20141207T140000Z
DTEND:20141207T180000Z
CATEGORIES:car, gathering
LOCATION:Wayne's Speed Shop
WEBSITE:
URL:
CONTACT:732-721-7445
ORGANIZER;CN="Brian Wisniewski":https://northeastwheelsevents.com/prof
 ile/BrianWisniewski
ATTACH;FMTTYPE="image/jpeg":http://storage.ning.com/topology/rest/1.0/
 file/get/2284065224?profile=original
ATTENDEE;ROLE=REQ-PARTICIPANT;PARTSTAT=ACCEPTED;RSVP=TRUE;CN="Brian Wi
 sniewski":https://northeastwheelsevents.com/profile/BrianWisniewski
END:VEVENT
END:VCALENDAR
