BEGIN:VCALENDAR
PRODID:NingEventWidget-v1
VERSION:2.0
METHOD:PUBLISH
BEGIN:VEVENT
UID:5167423:Event:311865
DTSTAMP:20260421T123655Z
SUMMARY:5th Annual Wheels Of Freedom Car Show
DESCRIPTION:Pennsylvania Outdoor Veterans is Hosting their 5th Annual 
 Wheels of Freedom Car Show in conjunction with Egypt Memorial Parks co
 mmunity carnival. Plan on a day of great cars, vendors, good food, kid
 s rides, 50/50, basket raffles, and live music for the whole family. t
 o become a vendor or preregister for the show check out our Facebook 
 https://www.facebook.com/PennsylvaniaOutdoorVeterans/\nCar show- 11-5 
 Gates open @ 10\nCarnival goes till late night. \nGate entrance is 41
 17 Park St Whitehall, PA 18052\n\nFor more information visit https://n
 ortheastwheelsevents.com/events/5th-annual-wheels-of-freedom-car-show
DTSTART:20230603T150000Z
DTEND:20230603T210000Z
CATEGORIES:car, show, "/carnival"
LOCATION:Egypt Memorial Park
WEBSITE:
URL:
CONTACT:4848602655
ORGANIZER;CN="jason wetzel":https://northeastwheelsevents.com/profile/
 jasonwetzel
ATTACH;FMTTYPE="image/jpeg":https://storage.ning.com/topology/rest/1.0
 /file/get/10995759101?profile=original
ATTENDEE;ROLE=REQ-PARTICIPANT;PARTSTAT=ACCEPTED;RSVP=TRUE;CN="jason we
 tzel":https://northeastwheelsevents.com/profile/jasonwetzel
END:VEVENT
END:VCALENDAR
