BEGIN:VCALENDAR
PRODID:NingEventWidget-v1
VERSION:2.0
METHOD:PUBLISH
BEGIN:VEVENT
UID:5167423:Event:116135
DTSTAMP:20260425T123820Z
SUMMARY:5TH ANNUAL WRMC\" SUPER SWAP MEET AND SHOW\" , CARS TRUCKS MOT
 ORCYCLES
DESCRIPTION:http://WWW.WhiteroseMC.org\n5TH ANNUAL WHITE ROSE MOTORCYC
 LE CLUB EVENTS \"SUPER SWAP MEET AND SHOW\"\nCARS-TRUCKS-MOTORCYCLES-P
 ARTS AND SHOW DISPLAY\nJUNE 10TH VENDOR SET UP\nJUNE 11TH SUPER SWAP M
 EET 8AM TILL\n2PM JUNE 11TH CRUISE IN SHOW TILL 8 PM\nSUNDAY12TH SUPER
  SWAP MEET AND CAR SHOW 9-2\nALL PEOPLES CHOICE AWARDS \nVENDORS WELC
 OME, 20X20 IS 40$ CAMPING IS AVAIL NO HOOK UPS \n\n\n\nFor more infor
 mation visit https://northeastwheelsevents.com/events/5th-annual-wrmc-
 super-swap-meet-and-show-cars-trucks-motorcycles
DTSTART:20160610T120000Z
DTEND:20160612T180000Z
CATEGORIES:swap, meet, and, show
LOCATION:Spring Grove, PA  AT THE FAMOUS \" JEFFERSON HILLCLIMBS\"
WEBSITE:http://WWW.WhiteroseMC.org
URL:http://WWW.WhiteroseMC.org
CONTACT:717-577-3393
ORGANIZER;CN="RICK SNIDER":https://northeastwheelsevents.com/profile/R
 ICKSNIDER
ATTACH;FMTTYPE="image/jpeg":
ATTENDEE;ROLE=REQ-PARTICIPANT;PARTSTAT=ACCEPTED;RSVP=TRUE;CN="RICK SNI
 DER":https://northeastwheelsevents.com/profile/RICKSNIDER
END:VEVENT
END:VCALENDAR
