BEGIN:VCALENDAR
PRODID:NingEventWidget-v1
VERSION:2.0
METHOD:PUBLISH
BEGIN:VEVENT
UID:5167423:Event:345218
DTSTAMP:20260424T161448Z
SUMMARY:6th Annual 717 Outlaws Truck and Auto Show
DESCRIPTION:We are back for another year!$20 vehicle registration (Cas
 h Only) (Proceeds go to Homeless Veterans)Dirt drags!Trailer Parking A
 vailable50/50,RafflesAwards and more info coming soon!\r\n\n\nFor more
  information visit https://northeastwheelsevents.com/events/6th-annual
 -717-outlaws-truck-and-auto-show
DTSTART:20260627T150000Z
DTEND:20260627T210000Z
CATEGORIES:carshow, benefit
LOCATION:Williams Grove Tractor Pulls at Steam Engine Hill
WEBSITE:https://allevents.in/dillsburg/6th-annual-717-outlaws-truck-an
 d-auto-show/200028749507838
URL:https://allevents.in/dillsburg/6th-annual-717-outlaws-truck-and-au
 to-show/200028749507838
CONTACT:717-766-4001
ORGANIZER:Kohl Seiple
ATTACH;FMTTYPE="image/jpeg":https://storage.ning.com/topology/rest/1.0
 /file/get/13727951478?profile=original
ATTENDEE;ROLE=REQ-PARTICIPANT;PARTSTAT=ACCEPTED;RSVP=TRUE;CN="William 
 Bruce":https://northeastwheelsevents.com/profile/WilliamBruce
END:VEVENT
END:VCALENDAR
