BEGIN:VCALENDAR
PRODID:NingEventWidget-v1
VERSION:2.0
METHOD:PUBLISH
BEGIN:VEVENT
UID:5167423:Event:265168
DTSTAMP:20260425T222939Z
SUMMARY:6th Annual Car Show & Swap Meet
DESCRIPTION:Come down for our Sixth Annual Car Show & Swap Meet!\n\nFR
 EE PUBLIC ENTRY!\n\nThere will be cars from all eras. Judging & awards
  for stock & modified cars from ALL YEARS. The event also features mus
 ic, swap meet, Pinup models, Chinese auction, 50/50 raffle and food/be
 verages for sale!\n\nEVENT WILL TAKE PLACE AT:\nFiremen's Field & Trai
 ning Center\n689 Atlantic Avenue, Baldwin, NY 11510\n\nInterested in d
 isplaying your car?\n\n$20 car entry fee for cars to be judged (ALL YE
 ARS)\nPublic entry - FREE!\n\n\nInterested in having a table at our sw
 ap meet?\n\n$35 per table to sell your goods\n\n\nSPONSORSHIPS AVAILAB
 LE!\nContact us for more information.\n\nFor more information, contact
  us at 516-597-0402 or carshow@hoseonebfd.org for an application!\n\nG
 ates open at 7AM for all show cars. Public entry at 9AM.\n\nFor more i
 nformation visit https://northeastwheelsevents.com/events/6th-annual-c
 ar-show-amp-swap-meet
DTSTART:20201004T130000Z
DTEND:20201004T190000Z
CATEGORIES:car, show
LOCATION:Baldwin Firemen's Field &amp; Training Center
WEBSITE:https://www.hoseonebfd.org/news-info/events/2020-car-show/
URL:https://www.hoseonebfd.org/news-info/events/2020-car-show/
CONTACT:516-597-0402
ORGANIZER:Hose Company One - Baldwin Fire Department
ATTACH;FMTTYPE="image/jpeg":https://storage.ning.com/topology/rest/1.0
 /file/get/7909048683?profile=original
ATTENDEE;ROLE=REQ-PARTICIPANT;PARTSTAT=ACCEPTED;RSVP=TRUE;CN="Craig Ya
 nantuono":https://northeastwheelsevents.com/profile/CraigYanantuono
END:VEVENT
END:VCALENDAR
