BEGIN:VCALENDAR
PRODID:NingEventWidget-v1
VERSION:2.0
METHOD:PUBLISH
BEGIN:VEVENT
UID:5167423:Event:175174
DTSTAMP:20260422T140444Z
SUMMARY:6th Annual Car Show
DESCRIPTION:We invite all car enthusiasts to join us at our show and a
 ll proceeds go to The Ronald McDonald House. Pre-registration is $15 a
 nd day of the show registration is $20. There will be music, door priz
 es, raffles, food available for purchase, and trophies awarded to Best
  In Show, People's Choice, and Judge's Pick. Thank you and hope to see
  you there.\n\nFor more information visit https://northeastwheelsevent
 s.com/events/6th-annual-car-show
DTSTART:20180616T150000Z
DTEND:20180616T190000Z
CATEGORIES:benefits, the, ronald, mcdonald, house
LOCATION:Thousand Trails Hershey Campground
WEBSITE:
URL:
CONTACT:717-867-5515 select 0
ORGANIZER:Kim Metz
ATTACH;FMTTYPE="image/jpeg":
ATTENDEE;ROLE=REQ-PARTICIPANT;PARTSTAT=ACCEPTED;RSVP=TRUE;CN="Todd Met
 z":https://northeastwheelsevents.com/profile/ToddMetz
END:VEVENT
END:VCALENDAR
