BEGIN:VCALENDAR
PRODID:NingEventWidget-v1
VERSION:2.0
METHOD:PUBLISH
BEGIN:VEVENT
UID:5167423:Event:153210
DTSTAMP:20260420T204934Z
SUMMARY:6th Annual Kreamer Car Show
DESCRIPTION:2017%20pdf.pdf\n\nFor more information visit https://north
 eastwheelsevents.com/events/6th-annual-kreamer-car-show
DTSTART:20170910T040000Z
DTEND:20170911T035900Z
CATEGORIES:benefits, scout, troop, 400
LOCATION:Kreamer Rec. Field
WEBSITE:https://www.google.com/maps/place/144+Old+Kantz+St,+Selinsgrov
 e,+PA+17870/@40.8019375,-76.9632824,18z/data=!4m5!3m4!1s0x89cf3c5ee24c
 0b9d:0x6023f6f2e68cb350!8m2!3d40.8029883!4d-76.9612631
URL:https://www.google.com/maps/place/144+Old+Kantz+St,+Selinsgrove,+P
 A+17870/@40.8019375,-76.9632824,18z/data=!4m5!3m4!1s0x89cf3c5ee24c0b9d
 :0x6023f6f2e68cb350!8m2!3d40.8029883!4d-76.9612631
CONTACT:570-374-6460
ORGANIZER:Kreamer Car Show Team
ATTACH;FMTTYPE="image/jpeg":
ATTENDEE;ROLE=REQ-PARTICIPANT;PARTSTAT=ACCEPTED;RSVP=TRUE;CN="Steve Sa
 vidge":https://northeastwheelsevents.com/profile/SteveSavidge594
END:VEVENT
END:VCALENDAR
