BEGIN:VCALENDAR
PRODID:NingEventWidget-v1
VERSION:2.0
METHOD:PUBLISH
BEGIN:VEVENT
UID:5167423:Event:691
DTSTAMP:20260423T002014Z
SUMMARY:6th Annual Port Allegany Car Show   Port Allegany,Pa
DESCRIPTION:Event Hours: 9:00 am - 4:00 pm\nRegistration 9:00 am - 12:
 30- pm\n\nOpen to all cars, trucks and motorcycles, antique to present
 . Particpant trophies, spectator awards, special pick awards. Chinese 
 auction, door prizes, music and food. Dash plaques to 1st 125 entries.
  Part of proceeds to benefit Camp JJ for underpriviledged children\n\n
 Event Fees: Pre-Registration $8.00 (by July 25th) $10.00 after July 25
 th\n\nFor more information visit https://northeastwheelsevents.com/eve
 nts/6th-annual-port-allegany-car
DTSTART:20100807T130000Z
DTEND:20100807T200000Z
CATEGORIES:car, show
LOCATION:Main Street, on the Square
WEBSITE:http://pacarshow@hotmail.com
URL:http://pacarshow@hotmail.com
CONTACT:Joan Freer  814-642-9631
ORGANIZER:Bonnie Anderson 814-642-2166
ATTACH;FMTTYPE="image/jpeg":
ATTENDEE;ROLE=REQ-PARTICIPANT;PARTSTAT=ACCEPTED;RSVP=TRUE;CN="Richard 
 Scott":https://northeastwheelsevents.com/profile/RichardScott
END:VEVENT
END:VCALENDAR
