BEGIN:VCALENDAR
PRODID:NingEventWidget-v1
VERSION:2.0
METHOD:PUBLISH
BEGIN:VEVENT
UID:5167423:Event:151093
DTSTAMP:20260423T054543Z
SUMMARY:6TH ANNUAL WRMC\" SUPER SWAP MEET AND SHOW\" , CARS TRUCKS MOT
 ORCYCLES
DESCRIPTION:JUNE 9-10-11 THE SWAP MEET IS ALL 3 DAYS , CRUISE IN SATUR
 DAY 12-5 DOOR PRIZES  SUNDAY SHOW FOR ALL CARS TRUCKS & MOTORCYCLES TR
 OPHIES HELD AT THE FAMOUS JEFFERSON HILLCLIMBS * VENDORS ARE WELCOME *
  CONTACT 717-577-3393 RICK WE ARE A CLUB FULL OF MEMBERS WHO LOVE MOTO
 RSPORTS HOLDING THIS EVENT IS OUR PLEASURE ,\n\nFor more information v
 isit https://northeastwheelsevents.com/events/6th-annual-wrmc-super-sw
 ap-meet-and-show-cars-trucks-motorcycles
DTSTART:20170609T040000Z
DTEND:20170612T035900Z
CATEGORIES:swap, meet, and, show
LOCATION:Spring Grove, PA  AT THE FAMOUS \" JEFFERSON HILLCLIMBS\"
WEBSITE:
URL:
CONTACT:717-577-3393
ORGANIZER;CN="RICK SNIDER":https://northeastwheelsevents.com/profile/R
 ICKSNIDER
ATTACH;FMTTYPE="image/jpeg":http://storage.ning.com/topology/rest/1.0/
 file/get/2284100876?profile=original
ATTENDEE;ROLE=REQ-PARTICIPANT;PARTSTAT=ACCEPTED;RSVP=TRUE;CN="RICK SNI
 DER":https://northeastwheelsevents.com/profile/RICKSNIDER
END:VEVENT
END:VCALENDAR
