BEGIN:VCALENDAR
PRODID:NingEventWidget-v1
VERSION:2.0
METHOD:PUBLISH
BEGIN:VEVENT
UID:5167423:Event:147
DTSTAMP:20260423T020508Z
SUMMARY:6th E-Rider Car,Truck ,Bike Show & Pinstripers Charity Auction
  -Dayton, Oh
DESCRIPTION:6th E-Rider Car,Truck ,Bike Show & Pinstripers Charity Auc
 tion\nSunday, August 15, 2010\n9:00am - 4:00pm\nLocation: 205 Union Rd
 \nDescription\nOver 150 Food,Craft & Art Vendors- Live Music + DJ-50/5
 0 - 150 Dash Plaques - Free Tees for the first 100 - Pinstripers from 
 all over the east coast - Sponsor Raffle - 12 Best of awards- Just $8.
 00 day of show - All Proceeds of Auction go to The Childrens Hospital 
 of Dayton\n\nFor more information visit https://northeastwheelsevents.
 com/events/6th-erider-cartruck-bike-show
DTSTART:20100815T130000Z
DTEND:20100815T200000Z
CATEGORIES:benefit-car-show
LOCATION:205 Union Rd
WEBSITE:http://www.facebook.com/event.php?eid=346136202217
URL:http://www.facebook.com/event.php?eid=346136202217
CONTACT:
ORGANIZER:Cruis'n with E-Rider
ATTACH;FMTTYPE="image/jpeg":http://storage.ning.com/topology/rest/1.0/
 file/get/2284046083?profile=original
ATTENDEE;ROLE=REQ-PARTICIPANT;PARTSTAT=ACCEPTED;RSVP=TRUE;CN="Michael 
 Thies":https://northeastwheelsevents.com/profile/MichaelThies
END:VEVENT
END:VCALENDAR
