BEGIN:VCALENDAR
PRODID:NingEventWidget-v1
VERSION:2.0
METHOD:PUBLISH
BEGIN:VEVENT
UID:5167423:Event:318942
DTSTAMP:20260422T101759Z
SUMMARY:7 Valley Street Rods Annual Little York Car Show and Flea Mark
 et
DESCRIPTION:7 Valley Street Rods presents our Annual Little York Car S
 how and Flea Market at Dwyer Memorial Park in Little York NY. Easy acc
 ess from I81. Sunday, September 17, 2023. 8am- 4pm. Judging from 11am-
  12:30pm. Dash Plaques!  Door prizes! Trophys and cash prizes. Must b
 e present to win. Preregistration $10, day of show $15. Spectator dona
 tions accepted. Net proceeds to benefit local charities. Flea Market s
 pace $20, Car corral $15 Flea Market spaces still available!  Pre reg
 istrations must be post marked by Sept. 7, 2023.  For more informatio
 n call 607-756-6559 or 607-745-2532. Go to website to print off an ent
 ry sheet. Www.7valleystreetrods.org. Open to all years and models of C
 ar and motorcycles. Check out our facebook page the day of the show fo
 r weather updates. Food and Refreshment made available by Syracuse Val
 ley Men's Club. Dwyer park has picnic tables, kids playground  and 2 
 lakes to enjoy.  \n\nFor more information visit https://northeastwhe
 elsevents.com/events/7-valley-hot-rods-annual-little-york-car-show-and
 -flea-market
DTSTART:20230917T120000Z
DTEND:20230917T200000Z
CATEGORIES:car, show, cruise, in, fundraiser
LOCATION:Dwyer Memorial Park
WEBSITE:https://www.7valleystreetrods.org
URL:https://www.7valleystreetrods.org
CONTACT:607-756-6559
ORGANIZER:7th Valley Street Rods Club.
ATTACH;FMTTYPE="image/jpeg":https://storage.ning.com/topology/rest/1.0
 /file/get/12199466684?profile=original
ATTENDEE;ROLE=REQ-PARTICIPANT;PARTSTAT=ACCEPTED;RSVP=TRUE;CN="William 
 Bruce":https://northeastwheelsevents.com/profile/WilliamBruce
END:VEVENT
END:VCALENDAR
