BEGIN:VCALENDAR
PRODID:NingEventWidget-v1
VERSION:2.0
METHOD:PUBLISH
BEGIN:VEVENT
UID:5167423:Event:244132
DTSTAMP:20260420T005145Z
SUMMARY:717 STREET & STRIP CAR CLUB CAR SHOW
DESCRIPTION:The 717 Street & Strip Car Club is hosting a Car Show and 
 Chinese Auction at the Hegins Park in Hegins PA, Saturday July 20 star
 ting at 9:00 am.  Preregistration is $12.00 or $15.00 day of the show
 .  1st thru 3rd awards given in each class, also Best of Show award i
 s given.  Participants do all judging and Club Members show in separa
 te classes. We will also having a Chinese Auction will all kinds of ca
 r memorabilia, gift certificates, and gift cards.  The car show has s
 omething for everyone in the family.  Door prizes, vendors, Chinese A
 uction, DJ entertainment, and food will be available.  All proceeds t
 o benefit the Children’s Miracle Network.  If you have any question
 , call Chas 717-395-6303.\n\nFor more information visit https://northe
 astwheelsevents.com/events/717-street-amp-strip-car-club-car-show-1
DTSTART:20190720T130000Z
DTEND:20190720T200000Z
CATEGORIES:car, show
LOCATION:Hegins Park
WEBSITE:https://www.facebook.com/717-Street-Strip-499447666931082
URL:https://www.facebook.com/717-Street-Strip-499447666931082
CONTACT:717-395-6303
ORGANIZER;CN="Molly Pinkerton":https://northeastwheelsevents.com/profi
 le/MollyPinkerton
ATTACH;FMTTYPE="image/jpeg":https://storage.ning.com/topology/rest/1.0
 /file/get/2222555243?profile=original
ATTENDEE;ROLE=REQ-PARTICIPANT;PARTSTAT=ACCEPTED;RSVP=TRUE;CN="Molly Pi
 nkerton":https://northeastwheelsevents.com/profile/MollyPinkerton
ATTENDEE;ROLE=REQ-PARTICIPANT;PARTSTAT=TENTATIVE;RSVP=TRUE;CN="Blaine 
 McKivison":https://northeastwheelsevents.com/profile/BlaineMcKivison
END:VEVENT
END:VCALENDAR
