BEGIN:VCALENDAR
PRODID:NingEventWidget-v1
VERSION:2.0
METHOD:PUBLISH
BEGIN:VEVENT
UID:5167423:Event:174366
DTSTAMP:20260422T043937Z
SUMMARY:717 STREET & STRIP CAR CLUB CAR SHOW
DESCRIPTION:\n\nFor more information visit https://northeastwheelseven
 ts.com/events/717-street-amp-strip-car-club-car-show
DTSTART:20180721T130000Z
DTEND:20180721T200000Z
CATEGORIES:car, show
LOCATION:Hegins Park
WEBSITE:https://www.facebook.com/717-Street-Strip-499447666931082
URL:https://www.facebook.com/717-Street-Strip-499447666931082
CONTACT:717-395-6303
ORGANIZER;CN="Molly Pinkerton":https://northeastwheelsevents.com/profi
 le/MollyPinkerton
ATTACH;FMTTYPE="image/jpeg":http://storage.ning.com/topology/rest/1.0/
 file/get/2284101795?profile=original
ATTENDEE;ROLE=REQ-PARTICIPANT;PARTSTAT=ACCEPTED;RSVP=TRUE;CN="Molly Pi
 nkerton":https://northeastwheelsevents.com/profile/MollyPinkerton
END:VEVENT
END:VCALENDAR
