BEGIN:VCALENDAR
PRODID:NingEventWidget-v1
VERSION:2.0
METHOD:PUBLISH
BEGIN:VEVENT
UID:5167423:Event:142146
DTSTAMP:20260423T065404Z
SUMMARY:717 STREET & STRIP CAR SHOW
DESCRIPTION:The 717 Street & Strip Car Club is hosting a Car Show and 
 Chinese Auction to benefit the Children's Miracle Network on July 15, 
 2017 starting at 9:00 am.  Preregistration is $10, day of show is $12
 .  1st thru 3rd awards given in each class plus Best of Show.  Dash 
 plaques and door prizes also given, vendors attending, and Chinese Auc
 tion with a variety of car enthusiast items available.\n\nFor more inf
 ormation visit https://northeastwheelsevents.com/events/717-street-str
 ip-car-show
DTSTART:20170715T130000Z
DTEND:20170715T210000Z
CATEGORIES:car, show
LOCATION:Hegins Park
WEBSITE:https://www.facebook.com/717-Street-Strip-499447666931082/?ref
 =bookmarks
URL:https://www.facebook.com/717-Street-Strip-499447666931082/?ref=boo
 kmarks
CONTACT:717-395-6303
ORGANIZER:Charles Pinkerton
ATTACH;FMTTYPE="image/jpeg":
ATTENDEE;ROLE=REQ-PARTICIPANT;PARTSTAT=ACCEPTED;RSVP=TRUE;CN="Blaine M
 cKivison":https://northeastwheelsevents.com/profile/BlaineMcKivison
ATTENDEE;ROLE=REQ-PARTICIPANT;PARTSTAT=ACCEPTED;RSVP=TRUE;CN="Molly Pi
 nkerton":https://northeastwheelsevents.com/profile/MollyPinkerton
END:VEVENT
END:VCALENDAR
