BEGIN:VCALENDAR
PRODID:NingEventWidget-v1
VERSION:2.0
METHOD:PUBLISH
BEGIN:VEVENT
UID:5167423:Event:348280
DTSTAMP:20260424T140406Z
SUMMARY:73nd Annual Spring Meet
DESCRIPTION:\n\nFor more information visit https://northeastwheelseven
 ts.com/events/73nd-annual-spring-meet-2
DTSTART:20260503T123000Z
DTEND:20260503T200000Z
CATEGORIES:judged, car, show, with, flea, market
LOCATION:Morris County School of Technology
WEBSITE:https://njregionaaca.com/activities/
URL:https://njregionaaca.com/activities/
CONTACT:973-650-2957
ORGANIZER:Peter Cullen
ATTACH;FMTTYPE="image/jpeg":
ATTENDEE;ROLE=REQ-PARTICIPANT;PARTSTAT=ACCEPTED;RSVP=TRUE;CN="Abraham 
 Platt":https://northeastwheelsevents.com/profile/AbrahamPlatt
END:VEVENT
END:VCALENDAR
