BEGIN:VCALENDAR
PRODID:NingEventWidget-v1
VERSION:2.0
METHOD:PUBLISH
BEGIN:VEVENT
UID:5167423:Event:102255
DTSTAMP:20260421T224818Z
SUMMARY:7th Annual 4UDREW Car Show & Festival
DESCRIPTION:Join us for a fun, Sunday afternoon at the Doylestown Cent
 ral Park (Kids Castle), 425 Wells Road, Doylestown, PA from 10 am - 3 
 pm. There will be a variety of unique cars, bikes and trucks to view a
 long with many vendors, food, music and games. All proceeds support ar
 ea soup kitchens and food pantries. Feel free to bring a non perishabl
 e food item for a Bucks County Food Pantry. Admission is FREE to the p
 ublic. All vehicles are welcome to register. Pre-registration is $15 a
 nd day of event is $20. Visit www.4udrew.org to register. \n\n\n\n\
 n\n\n\n\n\n\n\n\n\n\n\n\n\n\n\n\nFor more information visit https://no
 rtheastwheelsevents.com/events/7th-annual-4udrew-car-show-festival
DTSTART:20160807T140000Z
DTEND:20160807T190000Z
CATEGORIES:car, show, "&", festival
LOCATION:Doylestown Central Park
WEBSITE:http://www.4udrew.org
URL:http://www.4udrew.org
CONTACT:267-218-2866
ORGANIZER;CN="Suzanne Panettieri":https://northeastwheelsevents.com/pr
 ofile/SuzannePanettieri
ATTACH;FMTTYPE="image/jpeg":
ATTENDEE;ROLE=REQ-PARTICIPANT;PARTSTAT=ACCEPTED;RSVP=TRUE;CN="Suzanne 
 Panettieri":https://northeastwheelsevents.com/profile/SuzannePanettier
 i
END:VEVENT
END:VCALENDAR
