BEGIN:VCALENDAR
PRODID:NingEventWidget-v1
VERSION:2.0
METHOD:PUBLISH
BEGIN:VEVENT
UID:5167423:Event:242663
DTSTAMP:20260422T070522Z
SUMMARY:7th Annual AHRMA Vintage Motorcycle Festival & Swap Meet
DESCRIPTION:The 7th Annual AHRMA Vintage Motorcycle Festival featuri
 ng Vintage Motorcycle Racing, Swap Meet, Food Trucks, Craft Vendors, F
 riday night parade laps, Speed-N-Chrome Bike Show on Saturday, and mor
 e kicks off Friday, May 24– 26. The American Historic Racing Motorcy
 cle Association  (AHRMA) is a not-for-profit organization dedicated 
 to restoring and competing on classic motorcycles. With about 3,000 me
 mbers, AHRMA is the largest vintage racing group in North America and 
 one of the biggest in the world. The Swap Meet will feature a 60,000 s
 quare foot Swap Meet full of parts, bikes, merchandise, and collectibl
 es. This is a Rain or Shine Event!\n\nFor more information visit http
 s://northeastwheelsevents.com/events/7th-annual-ahrma-vintage-motorcyc
 le-festival-amp-swap-meet
DTSTART:20190524T040000Z
DTEND:20190527T035900Z
CATEGORIES:bike, show, and, swap, meet
LOCATION:New Jersey Motorsports Park
WEBSITE:https://njmp.com/single-event/7th-anuual-ahrma-vintage-motorcy
 cle-fest-swap-meet-t/
URL:https://njmp.com/single-event/7th-anuual-ahrma-vintage-motorcycle-
 fest-swap-meet-t/
CONTACT:8563278000
ORGANIZER:NJMP
ATTACH;FMTTYPE="image/jpeg":https://storage.ning.com/topology/rest/1.0
 /file/get/2055456363?profile=original
ATTENDEE;ROLE=REQ-PARTICIPANT;PARTSTAT=ACCEPTED;RSVP=TRUE;CN="Paul J R
 obinson":https://northeastwheelsevents.com/profile/PaulJRobinson
END:VEVENT
END:VCALENDAR
