BEGIN:VCALENDAR
PRODID:NingEventWidget-v1
VERSION:2.0
METHOD:PUBLISH
BEGIN:VEVENT
UID:5167423:Event:342611
DTSTAMP:20260424T091608Z
SUMMARY:8th Annual All Wheels Show & Vintage Tractor Pull
DESCRIPTION:8th Annual All Wheels Show & Vintage Tractor Pull at CNY L
 iving History Center. Saturday, October 4 2025, 10am-3pm! \r\nCome do
 wn to the CNY Living History Center and experience our 8th Annual All 
 Wheels Show and Vintage Tractor Pull! \r\nClassic cars, antique tract
 ors, bikes, motorcycles and more! Anything on wheels! They don't have 
 to be motorized! Enter your \"wheels\" for a $10 registration fee, whi
 ch includes 1 CNY Living History Center admission and/or come to watch
  the Tractor Pull and see what others bring. Only TOYS members can pul
 l! https://cnylivinghistory.org/tractors-of-yester-year/\r\n Music, 
 Food, Fun, Museum Tours and more... Something for everyone, plenty of 
 parking! \r\n\r\n All Wheels Show: $10 registration per vehicle be
 gins at 10am. Ticket includes 1 admission to History Center! Open to a
 ll makes, models, types, sizes and ages! \r\n\r\nTractor Pulls:  Re
 gistration begins at 9:30am. Pull begins at 10am. \r\nQuestions?: inf
 o@cnylivinghistory.org\n\nFor more information visit https://northeast
 wheelsevents.com/events/7th-annual-all-wheels-show-vintage-tractor-pul
 l-1
DTSTART:20251004T140000Z
DTEND:20251004T190000Z
CATEGORIES:carshow, tractorpull
LOCATION:CNY Living History Center
WEBSITE:https://www.cnylivinghistory.org
URL:https://www.cnylivinghistory.org
CONTACT:(607) 299-4185
ORGANIZER:CNYLHC
ATTACH;FMTTYPE="image/jpeg":https://storage.ning.com/topology/rest/1.0
 /file/get/13724829854?profile=original
ATTENDEE;ROLE=REQ-PARTICIPANT;PARTSTAT=ACCEPTED;RSVP=TRUE;CN="William 
 Bruce":https://northeastwheelsevents.com/profile/WilliamBruce
END:VEVENT
END:VCALENDAR
