BEGIN:VCALENDAR
PRODID:NingEventWidget-v1
VERSION:2.0
METHOD:PUBLISH
BEGIN:VEVENT
UID:5167423:Event:333989
DTSTAMP:20260423T002513Z
SUMMARY:7th Annual BGMC Car Show
DESCRIPTION:7th annual BGMC car show! BGMC stands for Boys and Girls M
 issionary Challenge. BGMC provides many things for missionaries all ar
 ound the world starting from the most basic of needs like drinking wat
 er all the way up to providing cars for them to travel. All money brou
 ght in will go towards BGMC.We would love to see old cars, trucks, mus
 cle cars, new cars, motorcycles, scooters, and even race cars. If it h
 as wheels it is welcomed!!-September 28th 11am-2pm-$15 registration fe
 e, opens at 10:30am. -Custom Trophies awarded!!! 🏆-Silent auction-
 Food and drinks-DJ with music-Free for spectators!TROPHIES 🏆-Best o
 f show-BGMC award-2nd place-3rd place-Best truck-Best motorcycle-pasto
 r choice-Best import-and top 40Dash plaques to first 55!We will have c
 orn hole, bounce house for kids and more!Hope to see as many cars as p
 ossible!! Thanks for reading and sharing!!\n\nFor more information vis
 it https://northeastwheelsevents.com/events/7th-annual-bgmc-car-show
DTSTART:20240928T150000Z
DTEND:20240928T180000Z
CATEGORIES:carshow, benefit
LOCATION:New Beginnings Church
WEBSITE:https://happeningnext.com/event/7th-annual-bgmc-car-show-eid3a
 0bl1tw58
URL:https://happeningnext.com/event/7th-annual-bgmc-car-show-eid3a0bl1
 tw58
CONTACT:614-497-2658
ORGANIZER:BGMC
ATTACH;FMTTYPE="image/jpeg":https://storage.ning.com/topology/rest/1.0
 /file/get/12934409289?profile=original
ATTENDEE;ROLE=REQ-PARTICIPANT;PARTSTAT=ACCEPTED;RSVP=TRUE;CN="William 
 Bruce":https://northeastwheelsevents.com/profile/WilliamBruce
END:VEVENT
END:VCALENDAR
